BEGIN:VCALENDAR
VERSION:2.0
PRODID:-//North Queensland Wildlife Care Inc. - ECPv4.6.20.1//NONSGML v1.0//EN
CALSCALE:GREGORIAN
METHOD:PUBLISH
X-WR-CALNAME:North Queensland Wildlife Care Inc.
X-ORIGINAL-URL:https://nqwildlife.org.au
X-WR-CALDESC:Events for North Queensland Wildlife Care Inc.
BEGIN:VEVENT
DTSTART;TZID=Australia/Brisbane:20190220T120000
DTEND;TZID=Australia/Brisbane:20190220T150000
DTSTAMP:20190227T114229
CREATED:20190128T015608Z
LAST-MODIFIED:20190128T015608Z
UID:2188-1550664000-1550674800@nqwildlife.org.au
SUMMARY:JCU Market Day
DESCRIPTION:a good opportunity to recruit new members amongst the JCU students \n
URL:https://nqwildlife.org.au/event/jcu-market-day/
CATEGORIES:Members,Open
END:VEVENT
END:VCALENDAR